BEGIN:VCALENDAR
VERSION:2.0
PRODID:-//Focales
CALSCALE:GREGORIAN
METHOD:PUBLISH
X-WR-CALNAME:Focales
X-ORIGINAL-URL:https://focales.org/plein-air-animaux-compagnie/
X-WR-CALDESC:PLEIN AIR &#8211; ANIMAUX &#038; COMPAGNIE
BEGIN:VEVENT
DTSTART:20170721T214500
DTEND:20170721T231500
SUMMARY:PLEIN AIR &#8211; ANIMAUX &#038; COMPAGNIE
DESCRIPTION:
LOCATION:Ecole Jean de La Fontaine, Rue Grande Combaude, Clermont-Ferrand
END:VEVENT
END:VCALENDAR
