BEGIN:VCALENDAR
VERSION:2.0
PRODID:-//Focales
CALSCALE:GREGORIAN
METHOD:PUBLISH
X-WR-CALNAME:Focales
X-ORIGINAL-URL:https://focales.org/plein-air-asterix-le-domaine-des-dieux-2/
X-WR-CALDESC:PLEIN AIR &#8211; ASTÉRIX : LE DOMAINE DES DIEUX
BEGIN:VEVENT
DTSTART:20170720T220000
DTEND:20170720T233000
SUMMARY:PLEIN AIR &#8211; ASTÉRIX : LE DOMAINE DES DIEUX
DESCRIPTION:
LOCATION:Fourilles 03140 France
END:VEVENT
END:VCALENDAR
