BEGIN:VCALENDAR
VERSION:2.0
PRODID:-//Focales
CALSCALE:GREGORIAN
METHOD:PUBLISH
X-WR-CALNAME:Focales
X-ORIGINAL-URL:https://focales.org/plein-air-sleepy-hollow/
X-WR-CALDESC:PLEIN AIR &#8211; SLEEPY HOLLOW
BEGIN:VEVENT
DTSTART:20170808T214500
DTEND:20170808T233000
SUMMARY:PLEIN AIR &#8211; SLEEPY HOLLOW
DESCRIPTION:
LOCATION:Centre national du costume de scène
END:VEVENT
END:VCALENDAR
