BEGIN:VCALENDAR
VERSION:2.0
PRODID:-//Focales
CALSCALE:GREGORIAN
METHOD:PUBLISH
X-WR-CALNAME:Focales
X-ORIGINAL-URL:https://focales.org/plein-air-papa-ou-maman-2/
X-WR-CALDESC:PLEIN AIR &#8211; PAPA OU MAMAN
BEGIN:VEVENT
DTSTART:20170817T210000
DTEND:20170817T223000
SUMMARY:PLEIN AIR &#8211; PAPA OU MAMAN
DESCRIPTION:
LOCATION:Allée de la Foire au Pré 63300 Thiers France
END:VEVENT
END:VCALENDAR
