BEGIN:VCALENDAR
VERSION:2.0
PRODID:-//Focales
CALSCALE:GREGORIAN
METHOD:PUBLISH
X-WR-CALNAME:Focales
X-ORIGINAL-URL:https://focales.org/plein-air-chocolat/
X-WR-CALDESC:PLEIN AIR &#8211; CHOCOLAT
BEGIN:VEVENT
DTSTART:20170823T210000
DTEND:20170823T230000
SUMMARY:PLEIN AIR &#8211; CHOCOLAT
DESCRIPTION:
LOCATION:Parc des sports Michel Couturier
END:VEVENT
END:VCALENDAR
