BEGIN:VCALENDAR
VERSION:2.0
PRODID:-//Focales
CALSCALE:GREGORIAN
METHOD:PUBLISH
X-WR-CALNAME:Focales
X-ORIGINAL-URL:https://focales.org/plein-air-les-minions-4/
X-WR-CALDESC:PLEIN AIR &#8211; LES MINIONS
BEGIN:VEVENT
DTSTART:20170831T210000
DTEND:20170831T223000
SUMMARY:PLEIN AIR &#8211; LES MINIONS
DESCRIPTION:
LOCATION:Moulins 03000
END:VEVENT
END:VCALENDAR
