BEGIN:VCALENDAR
VERSION:2.0
PRODID:-//Focales
CALSCALE:GREGORIAN
METHOD:PUBLISH
X-WR-CALNAME:Focales
X-ORIGINAL-URL:https://focales.org/appel-a-candidatures-creation-en-cours/
X-WR-CALDESC:APPEL À CANDIDATURES CRÉATION EN COURS
BEGIN:VEVENT
DTSTART:20170420T000000
DTEND:20170715T000000
SUMMARY:APPEL À CANDIDATURES CRÉATION EN COURS
DESCRIPTION:
LOCATION:
END:VEVENT
END:VCALENDAR
