BEGIN:VCALENDAR
VERSION:2.0
PRODID:-//Focales
CALSCALE:GREGORIAN
METHOD:PUBLISH
X-WR-CALNAME:Focales
X-ORIGINAL-URL:https://focales.org/formation-le-gruffalo/
X-WR-CALDESC:FORMATION LE GRUFFALO
BEGIN:VEVENT
DTSTART:20170927T170000
DTEND:20170927T190000
SUMMARY:FORMATION LE GRUFFALO
DESCRIPTION:
LOCATION:Centre universitaire et pédagogique - Le Puy-en-Velay
END:VEVENT
END:VCALENDAR
