BEGIN:VCALENDAR
VERSION:2.0
PRODID:-//Focales
CALSCALE:GREGORIAN
METHOD:PUBLISH
X-WR-CALNAME:Focales
X-ORIGINAL-URL:https://focales.org/formation-l-histoire-sans-fin/
X-WR-CALDESC:FORMATION L&rsquo;HISTOIRE SANS FIN
BEGIN:VEVENT
DTSTART:20180110T170000
DTEND:20180110T190000
SUMMARY:FORMATION L&rsquo;HISTOIRE SANS FIN
DESCRIPTION:
LOCATION:Ciné Dyke - Le Puy-en-Velay
END:VEVENT
END:VCALENDAR
