BEGIN:VCALENDAR
VERSION:2.0
PRODID:-//Focales
CALSCALE:GREGORIAN
METHOD:PUBLISH
X-WR-CALNAME:Focales
X-ORIGINAL-URL:https://focales.org/le-tableau-2/
X-WR-CALDESC:FORMATION LE TABLEAU
BEGIN:VEVENT
DTSTART:20170926T090000
DTEND:20170926T170000
SUMMARY:FORMATION LE TABLEAU
DESCRIPTION:
LOCATION:Cinéma le Dyke
END:VEVENT
END:VCALENDAR
