BEGIN:VCALENDAR
VERSION:2.0
PRODID:-//Focales
CALSCALE:GREGORIAN
METHOD:PUBLISH
X-WR-CALNAME:Focales
X-ORIGINAL-URL:https://focales.org/fast-furious-6-cournon/
X-WR-CALDESC:FAST &#038; FURIOUS 6
BEGIN:VEVENT
DTSTART:20150722T221500
DTEND:
SUMMARY:FAST &#038; FURIOUS 6
DESCRIPTION:
LOCATION:45.7316012 3.2031464
END:VEVENT
END:VCALENDAR
