BEGIN:VCALENDAR
VERSION:2.0
PRODID:-//Focales
CALSCALE:GREGORIAN
METHOD:PUBLISH
X-WR-CALNAME:Focales
X-ORIGINAL-URL:https://focales.org/atelier-video-15-ans-adultes/
X-WR-CALDESC:ATELIER VIDEO + 15 ANS &#038; ADULTES
BEGIN:VEVENT
DTSTART:20170923T140000
DTEND:20180602T163000
SUMMARY:ATELIER VIDEO + 15 ANS &#038; ADULTES
DESCRIPTION:
LOCATION:Maison des Loisirs et de la Culture, 1 Rue Antoine Dischamps, 63160 Billom, France
END:VEVENT
END:VCALENDAR
