BEGIN:VCALENDAR
VERSION:2.0
PRODID:-//Focales
CALSCALE:GREGORIAN
METHOD:PUBLISH
X-WR-CALNAME:Focales
X-ORIGINAL-URL:https://focales.org/abd-el-kader-en-presence-dadi-abdelhafidi/
X-WR-CALDESC:ABD EL KADER EN PRESENCE D&rsquo;ADI ABDELHAFIDI
BEGIN:VEVENT
DTSTART:20171010T200000
DTEND:20171010T230000
SUMMARY:ABD EL KADER EN PRESENCE D&rsquo;ADI ABDELHAFIDI
DESCRIPTION:
LOCATION:Cinéma Le Rio, Rue sous les Vignes, Clermont-Ferrand
END:VEVENT
END:VCALENDAR
