BEGIN:VCALENDAR
VERSION:2.0
PRODID:-//Focales
CALSCALE:GREGORIAN
METHOD:PUBLISH
X-WR-CALNAME:Focales
X-ORIGINAL-URL:https://focales.org/atelier-flip-books/
X-WR-CALDESC:ATELIER FLIP-BOOKS
BEGIN:VEVENT
DTSTART:20170923T150000
DTEND:20170924T170000
SUMMARY:ATELIER FLIP-BOOKS
DESCRIPTION:
LOCATION:
END:VEVENT
END:VCALENDAR
