BEGIN:VCALENDAR
VERSION:2.0
PRODID:-//Focales
CALSCALE:GREGORIAN
METHOD:PUBLISH
X-WR-CALNAME:Focales
X-ORIGINAL-URL:https://focales.org/festival-cinebanlieue-appel-a-films/
X-WR-CALDESC:FESTIVAL CINEBANLIEUE &#8211; APPEL À FILMS
BEGIN:VEVENT
DTSTART:20170831T080000
DTEND:20170910T235900
SUMMARY:FESTIVAL CINEBANLIEUE &#8211; APPEL À FILMS
DESCRIPTION:
LOCATION:
END:VEVENT
END:VCALENDAR
