BEGIN:VCALENDAR
VERSION:2.0
PRODID:-//Focales
CALSCALE:GREGORIAN
METHOD:PUBLISH
X-WR-CALNAME:Focales
X-ORIGINAL-URL:https://focales.org/fete-du-cinema-danimation/
X-WR-CALDESC:FETE DU CINEMA D&rsquo;ANIMATION
BEGIN:VEVENT
DTSTART:20171018T090000
DTEND:20171021T234500
SUMMARY:FETE DU CINEMA D&rsquo;ANIMATION
DESCRIPTION:
LOCATION:
END:VEVENT
END:VCALENDAR
