BEGIN:VCALENDAR
VERSION:2.0
PRODID:-//Focales
CALSCALE:GREGORIAN
METHOD:PUBLISH
X-WR-CALNAME:Focales
X-ORIGINAL-URL:https://focales.org/concours-z/
X-WR-CALDESC:CONCOURS Z
BEGIN:VEVENT
DTSTART:20170831T080000
DTEND:20170930T234500
SUMMARY:CONCOURS Z
DESCRIPTION:
LOCATION:
END:VEVENT
END:VCALENDAR
