BEGIN:VCALENDAR
VERSION:2.0
PRODID:-//Focales
CALSCALE:GREGORIAN
METHOD:PUBLISH
X-WR-CALNAME:Focales
X-ORIGINAL-URL:https://focales.org/cinefac-the-thing/
X-WR-CALDESC:CINEFAC &#8211; THE THING &#8211; PLEIN AIR
BEGIN:VEVENT
DTSTART:20170920T210000
DTEND:20170920T230000
SUMMARY:CINEFAC &#8211; THE THING &#8211; PLEIN AIR
DESCRIPTION:
LOCATION:Place Vasarely, 63170 Aubière, France
END:VEVENT
END:VCALENDAR
