BEGIN:VCALENDAR
VERSION:2.0
PRODID:-//Focales
CALSCALE:GREGORIAN
METHOD:PUBLISH
X-WR-CALNAME:Focales
X-ORIGINAL-URL:https://focales.org/les-croods-clermont-ferrand/
X-WR-CALDESC:LES CROODS
BEGIN:VEVENT
DTSTART:20150723T220000
DTEND:
SUMMARY:LES CROODS
DESCRIPTION:
LOCATION:45.7776708 3.1127468
END:VEVENT
END:VCALENDAR
