BEGIN:VCALENDAR
VERSION:2.0
PRODID:-//Focales
CALSCALE:GREGORIAN
METHOD:PUBLISH
X-WR-CALNAME:Focales
X-ORIGINAL-URL:https://focales.org/7eme-semaine-du-cinema-italien/
X-WR-CALDESC:7ème SEMAINE DU CINEMA ITALIEN
BEGIN:VEVENT
DTSTART:20171115T140000
DTEND:20171121T194500
SUMMARY:7ème SEMAINE DU CINEMA ITALIEN
DESCRIPTION:
LOCATION:https://www.google.fr/maps/place/Cinéma+Le+Rio/@45.7936212,3.0975241,13.36z/data=!4m5!3m4!1s0x47f71eb54795d615:0x6ad7e416c4a480ce!8m2!3d45.8035471!4d3.1086322?dcr=0
END:VEVENT
END:VCALENDAR
