BEGIN:VCALENDAR
VERSION:2.0
PRODID:-//Focales
CALSCALE:GREGORIAN
METHOD:PUBLISH
X-WR-CALNAME:Focales
X-ORIGINAL-URL:https://focales.org/courts-metrages-place-victoire-clermont-contresplongees/
X-WR-CALDESC:COURTS MÉTRAGES AUX CONTRE-PLONGÉES
BEGIN:VEVENT
DTSTART:20150811T213000
DTEND:20150811T233000
SUMMARY:COURTS MÉTRAGES AUX CONTRE-PLONGÉES
DESCRIPTION:
LOCATION:Clermont-Ferrand, Place de la Victoire
END:VEVENT
END:VCALENDAR
