BEGIN:VCALENDAR
VERSION:2.0
PRODID:-//Focales
CALSCALE:GREGORIAN
METHOD:PUBLISH
X-WR-CALNAME:Focales
X-ORIGINAL-URL:https://focales.org/rencontre-nationale-des-poles-deducation-a-limage-2018/
X-WR-CALDESC:RENCONTRE NATIONALE DES PÔLES D&rsquo;ÉDUCATION À L&rsquo;IMAGE 2018
BEGIN:VEVENT
DTSTART:20180205T141500
DTEND:20180206T180000
SUMMARY:RENCONTRE NATIONALE DES PÔLES D&rsquo;ÉDUCATION À L&rsquo;IMAGE 2018
DESCRIPTION:
LOCATION:La Jetée, Clermont-Ferrand
END:VEVENT
END:VCALENDAR
