BEGIN:VCALENDAR
VERSION:2.0
PRODID:-//Focales
CALSCALE:GREGORIAN
METHOD:PUBLISH
X-WR-CALNAME:Focales
X-ORIGINAL-URL:https://focales.org/festival-courts-de-sciences/
X-WR-CALDESC:FESTIVAL COURTS DE SCIENCES
BEGIN:VEVENT
DTSTART:20171009T091500
DTEND:20171014T160000
SUMMARY:FESTIVAL COURTS DE SCIENCES
DESCRIPTION:
LOCATION:https://www.google.fr/maps?client=safari&rls=en&dcr=0&q=espace+municipal+georges+conchon+clermont+ferrand&biw=1920&bih=1049&um=1&ie=UTF-8&sa=X&ved=0ahUKEwi1wsrDztbWAhXH1BoKHcbwCn8Q_AUICigB
END:VEVENT
END:VCALENDAR
