BEGIN:VCALENDAR
VERSION:2.0
PRODID:-//Focales
CALSCALE:GREGORIAN
METHOD:PUBLISH
X-WR-CALNAME:Focales
X-ORIGINAL-URL:https://focales.org/che-guevara-naissance-dun-mythe-en-presence-de-tancrede-ramonet/
X-WR-CALDESC:CHE GUEVARA NAISSANCE D&rsquo;UN MYTHE EN PRESENCE DE TANCREDE RAMONET
BEGIN:VEVENT
DTSTART:20171006T200000
DTEND:20171006T230000
SUMMARY:CHE GUEVARA NAISSANCE D&rsquo;UN MYTHE EN PRESENCE DE TANCREDE RAMONET
DESCRIPTION:
LOCATION:https://www.google.fr/maps?client=safari&rls=en&q=cinéma+le+rio&oe=UTF-8&gfe_rd=cr&dcr=0&um=1&ie=UTF-8&sa=X&ved=0ahUKEwi4kLGHwNvWAhWFCBoKHVfED8cQ_AUICigB
END:VEVENT
END:VCALENDAR
