BEGIN:VCALENDAR
VERSION:2.0
PRODID:-//Focales
CALSCALE:GREGORIAN
METHOD:PUBLISH
X-WR-CALNAME:Focales
X-ORIGINAL-URL:https://focales.org/festival-les-stenopedies/
X-WR-CALDESC:FESTIVAL LES STENOPEDIES
BEGIN:VEVENT
DTSTART:20171007T140000
DTEND:20171104T190000
SUMMARY:FESTIVAL LES STENOPEDIES
DESCRIPTION:
LOCATION:
END:VEVENT
END:VCALENDAR
