BEGIN:VCALENDAR
VERSION:2.0
PRODID:-//Focales
CALSCALE:GREGORIAN
METHOD:PUBLISH
X-WR-CALNAME:Focales
X-ORIGINAL-URL:https://focales.org/les-sentinelles-en-presence-de-josette-roudaire/
X-WR-CALDESC:LES SENTINELLES EN PRESENCE DE JOSETTE ROUDAIRE
BEGIN:VEVENT
DTSTART:20171108T200000
DTEND:20171108T230000
SUMMARY:LES SENTINELLES EN PRESENCE DE JOSETTE ROUDAIRE
DESCRIPTION:
LOCATION:https://www.google.fr/maps?client=safari&rls=en&q=cinéma+le+rio+clermont+ferrand&oe=UTF-8&gfe_rd=cr&dcr=0&um=1&ie=UTF-8&sa=X&ved=0ahUKEwipvNKjrPXWAhVJPxoKHYeZBScQ_AUICigB
END:VEVENT
END:VCALENDAR
