BEGIN:VCALENDAR
VERSION:2.0
PRODID:-//Focales
CALSCALE:GREGORIAN
METHOD:PUBLISH
X-WR-CALNAME:Focales
X-ORIGINAL-URL:https://focales.org/concours-48h-pour-faire-un-doc/
X-WR-CALDESC:CONCOURS 48H POUR FAIRE UN DOC
BEGIN:VEVENT
DTSTART:20171110T190000
DTEND:20171112T190000
SUMMARY:CONCOURS 48H POUR FAIRE UN DOC
DESCRIPTION:
LOCATION:https://www.google.fr/maps/place/La+Maison+de+l’Oradou/@45.7703632,3.1026989,17z/data=!3m1!4b1!4m5!3m4!1s0x47f71b8a20a5dabd:0x6153e135ad11bae4!8m2!3d45.7703632!4d3.1048876?dcr=0
END:VEVENT
END:VCALENDAR
