BEGIN:VCALENDAR
VERSION:2.0
PRODID:-//Focales
CALSCALE:GREGORIAN
METHOD:PUBLISH
X-WR-CALNAME:Focales
X-ORIGINAL-URL:https://focales.org/sans-adieu-en-presence-de-pierre-vinour-2/
X-WR-CALDESC:SANS ADIEU EN PRESENCE DE PIERRE VINOUR
BEGIN:VEVENT
DTSTART:20180122T203000
DTEND:20180212T170000
SUMMARY:SANS ADIEU EN PRESENCE DE PIERRE VINOUR
DESCRIPTION:
LOCATION:
END:VEVENT
END:VCALENDAR
