BEGIN:VCALENDAR
VERSION:2.0
PRODID:-//Focales
CALSCALE:GREGORIAN
METHOD:PUBLISH
X-WR-CALNAME:Focales
X-ORIGINAL-URL:https://focales.org/projection-et-animation-jeune-public/
X-WR-CALDESC:A LA DÉCOUVERTE DU MONDE ET ANIMATION JEUNE PUBLIC
BEGIN:VEVENT
DTSTART:20171028T150000
DTEND:20171028T160000
SUMMARY:A LA DÉCOUVERTE DU MONDE ET ANIMATION JEUNE PUBLIC
DESCRIPTION:
LOCATION:https://www.google.fr/maps/place/Cinéma+La+Capitelle/@45.2829034,4.1750032,17z/data=!3m1!4b1!4m5!3m4!1s0x47f5bec3dd0fade9:0xa8d0ad6e8c0da5ee!8m2!3d45.2829034!4d4.1771919?dcr=0
END:VEVENT
END:VCALENDAR
