BEGIN:VCALENDAR
VERSION:2.0
PRODID:-//Focales
CALSCALE:GREGORIAN
METHOD:PUBLISH
X-WR-CALNAME:Focales
X-ORIGINAL-URL:https://focales.org/linsoumis-en-presence-de-gilles-perret/
X-WR-CALDESC:L&rsquo;INSOUMIS EN PRÉSENCE DE GILLES PERRET
BEGIN:VEVENT
DTSTART:20171125T173000
DTEND:20171125T200000
SUMMARY:L&rsquo;INSOUMIS EN PRÉSENCE DE GILLES PERRET
DESCRIPTION:
LOCATION:https://www.google.fr/maps?client=safari&rls=en&dcr=0&q=cinéma+le+rio+clermont+ferrand&biw=1878&bih=1042&um=1&ie=UTF-8&sa=X&ved=0ahUKEwjF6e2Okq_XAhWMVhoKHRjOB70Q_AUICigB
END:VEVENT
END:VCALENDAR
