BEGIN:VCALENDAR
VERSION:2.0
PRODID:-//Focales
CALSCALE:GREGORIAN
METHOD:PUBLISH
X-WR-CALNAME:Focales
X-ORIGINAL-URL:https://focales.org/memoire-dun-condamne-en-presence-de-sylvestre-meinzer/
X-WR-CALDESC:MÉMOIRE D&rsquo;UN CONDAMNÉ EN PRÉSENCE DE SYLVESTRE MEINZER
BEGIN:VEVENT
DTSTART:20171205T200000
DTEND:20171205T230000
SUMMARY:MÉMOIRE D&rsquo;UN CONDAMNÉ EN PRÉSENCE DE SYLVESTRE MEINZER
DESCRIPTION:
LOCATION:https://www.google.fr/maps/place/Cinéma+Le+Rio/@45.8035471,3.1064435,17z/data=!3m1!4b1!4m5!3m4!1s0x47f71eb54795d615:0x6ad7e416c4a480ce!8m2!3d45.8035471!4d3.1086322?dcr=0
END:VEVENT
END:VCALENDAR
