BEGIN:VCALENDAR
VERSION:2.0
PRODID:-//Focales
CALSCALE:GREGORIAN
METHOD:PUBLISH
X-WR-CALNAME:Focales
X-ORIGINAL-URL:https://focales.org/la-belle-et-la-bete-riom/
X-WR-CALDESC:LA BELLE ET LA BÊTE
BEGIN:VEVENT
DTSTART:20150724T220000
DTEND:20150724T235400
SUMMARY:LA BELLE ET LA BÊTE
DESCRIPTION:
LOCATION:45.8953836 3.1328739
END:VEVENT
END:VCALENDAR
