BEGIN:VCALENDAR
VERSION:2.0
PRODID:-//Focales
CALSCALE:GREGORIAN
METHOD:PUBLISH
X-WR-CALNAME:Focales
X-ORIGINAL-URL:https://focales.org/rencontres-video-amateur/
X-WR-CALDESC:RENCONTRES VIDÉO AMATEUR
BEGIN:VEVENT
DTSTART:20171202T150000
DTEND:20171202T190000
SUMMARY:RENCONTRES VIDÉO AMATEUR
DESCRIPTION:
LOCATION:https://www.google.fr/maps/place/Corum+Saint+Jean/@45.7817963,3.0808488,17z/data=!3m1!4b1!4m5!3m4!1s0x47f71bde71009b09:0x8803e227a1fcccae!8m2!3d45.7817963!4d3.0830375?dcr=0
END:VEVENT
END:VCALENDAR
