BEGIN:VCALENDAR
VERSION:2.0
PRODID:-//Focales
CALSCALE:GREGORIAN
METHOD:PUBLISH
X-WR-CALNAME:Focales
X-ORIGINAL-URL:https://focales.org/scars-of-cambodia-en-presence-demilie-arfeuil/
X-WR-CALDESC:SCARS OF CAMBODIA EN PRÉSENCE D&rsquo;ÉMILIE ARFEUIL
BEGIN:VEVENT
DTSTART:20171215T183000
DTEND:20171215T200000
SUMMARY:SCARS OF CAMBODIA EN PRÉSENCE D&rsquo;ÉMILIE ARFEUIL
DESCRIPTION:
LOCATION:https://www.google.fr/maps?client=safari&rls=en&oe=UTF-8&gfe_rd=cr&dcr=0&q=la+jetée+clermont+ferrand&um=1&ie=UTF-8&sa=X&ved=0ahUKEwjKiqKskOnXAhWKXRoKHVQRC6AQ_AUICygC
END:VEVENT
END:VCALENDAR
