BEGIN:VCALENDAR
VERSION:2.0
PRODID:-//Focales
CALSCALE:GREGORIAN
METHOD:PUBLISH
X-WR-CALNAME:Focales
X-ORIGINAL-URL:https://focales.org/supercondriaque-clermont-ferrand/
X-WR-CALDESC:SUPERCONDRIAQUE
BEGIN:VEVENT
DTSTART:20150727T220000
DTEND:20150727T234800
SUMMARY:SUPERCONDRIAQUE
DESCRIPTION:
LOCATION:45.8117811 3.1152235
END:VEVENT
END:VCALENDAR
