BEGIN:VCALENDAR
VERSION:2.0
PRODID:-//Focales
CALSCALE:GREGORIAN
METHOD:PUBLISH
X-WR-CALNAME:Focales
X-ORIGINAL-URL:https://focales.org/formation-dinitiative-locale/
X-WR-CALDESC:FORMATION D&rsquo;INITIATIVE LOCALE
BEGIN:VEVENT
DTSTART:20180322T090000
DTEND:20180323T170000
SUMMARY:FORMATION D&rsquo;INITIATIVE LOCALE
DESCRIPTION:
LOCATION:https://www.google.fr/maps/place/Collège+Gérard+Philipe/@45.7965629,3.1138179,17z/data=!3m1!4b1!4m5!3m4!1s0x47f71eb06f9e8183:0xd987efe439261395!8m2!3d45.7965629!4d3.1160066?dcr=0
END:VEVENT
END:VCALENDAR
