BEGIN:VCALENDAR
VERSION:2.0
PRODID:-//Focales
CALSCALE:GREGORIAN
METHOD:PUBLISH
X-WR-CALNAME:Focales
X-ORIGINAL-URL:https://focales.org/mariana-en-presence-de-marcela-said/
X-WR-CALDESC:MARIANA EN PRÉSENCE DE MARCELA SAID
BEGIN:VEVENT
DTSTART:20171219T200000
DTEND:20171219T223000
SUMMARY:MARIANA EN PRÉSENCE DE MARCELA SAID
DESCRIPTION:
LOCATION:https://www.google.fr/maps/place/Ciné+Capitole/@45.7761196,3.079158,17z/data=!3m1!4b1!4m5!3m4!1s0x47f71bc2eb7b2cd1:0x3a15f18577673426!8m2!3d45.7761196!4d3.0813467?dcr=0
END:VEVENT
END:VCALENDAR
