BEGIN:VCALENDAR
VERSION:2.0
PRODID:-//Focales
CALSCALE:GREGORIAN
METHOD:PUBLISH
X-WR-CALNAME:Focales
X-ORIGINAL-URL:https://focales.org/residence-musique-a-limage/
X-WR-CALDESC:RÉSIDENCE MUSIQUE À L&rsquo;IMAGE
BEGIN:VEVENT
DTSTART:20171211T090000
DTEND:20171217T183000
SUMMARY:RÉSIDENCE MUSIQUE À L&rsquo;IMAGE
DESCRIPTION:
LOCATION:https://www.google.fr/maps/place/Abbaye+de+la+Chaise-Dieu/@45.3205691,3.6942269,17z/data=!3m1!4b1!4m5!3m4!1s0x47f6715c78383733:0xde28b648b9128e65!8m2!3d45.3205691!4d3.6964156?dcr=0
END:VEVENT
END:VCALENDAR
