BEGIN:VCALENDAR
VERSION:2.0
PRODID:-//Focales
CALSCALE:GREGORIAN
METHOD:PUBLISH
X-WR-CALNAME:Focales
X-ORIGINAL-URL:https://focales.org/atelier-de-gravure-sur-tetrapak/
X-WR-CALDESC:ATELIER DE GRAVURE SUR TETRAPAK
BEGIN:VEVENT
DTSTART:20171227T100000
DTEND:20171227T160000
SUMMARY:ATELIER DE GRAVURE SUR TETRAPAK
DESCRIPTION:
LOCATION:https://www.google.fr/maps/place/La+Maison+des+Beaumontois/@45.752666,3.0845512,17z/data=!3m1!4b1!4m5!3m4!1s0x47f71b9c1b580279:0x4492af82e19b5053!8m2!3d45.752666!4d3.0867399?dcr=0
END:VEVENT
END:VCALENDAR
