BEGIN:VCALENDAR
VERSION:2.0
PRODID:-//Focales
CALSCALE:GREGORIAN
METHOD:PUBLISH
X-WR-CALNAME:Focales
X-ORIGINAL-URL:https://focales.org/dragons-2-montlucon/
X-WR-CALDESC:DRAGONS 2
BEGIN:VEVENT
DTSTART:20150728T220000
DTEND:
SUMMARY:DRAGONS 2
DESCRIPTION:
LOCATION:46.3433721 2.5759591
END:VEVENT
END:VCALENDAR
