BEGIN:VCALENDAR
VERSION:2.0
PRODID:-//Focales
CALSCALE:GREGORIAN
METHOD:PUBLISH
X-WR-CALNAME:Focales
X-ORIGINAL-URL:https://focales.org/the-spa-par-jean-emmanuel-guerlesquin/
X-WR-CALDESC:UNE HISTOIRE D&rsquo;EAU PAR CHRISTIAN GUINOT
BEGIN:VEVENT
DTSTART:20180222T180000
DTEND:20180222T190000
SUMMARY:UNE HISTOIRE D&rsquo;EAU PAR CHRISTIAN GUINOT
DESCRIPTION:
LOCATION:https://www.google.fr/maps?client=safari&rls=en&q=la+jetée+clermont+ferrand&oe=UTF-8&gfe_rd=cr&dcr=0&um=1&ie=UTF-8&sa=X&ved=0ahUKEwiU492Gr7nYAhXBbxQKHQB9BsMQ_AUICygC
END:VEVENT
END:VCALENDAR
