BEGIN:VCALENDAR
VERSION:2.0
PRODID:-//Focales
CALSCALE:GREGORIAN
METHOD:PUBLISH
X-WR-CALNAME:Focales
X-ORIGINAL-URL:https://focales.org/retour-en-algerie-en-presence-demmanuel-audrain/
X-WR-CALDESC:RETOUR EN ALGÉRIE EN PRÉSENCE D&rsquo;EMMANUEL AUDRAIN
BEGIN:VEVENT
DTSTART:20180131T200000
DTEND:20180131T230000
SUMMARY:RETOUR EN ALGÉRIE EN PRÉSENCE D&rsquo;EMMANUEL AUDRAIN
DESCRIPTION:
LOCATION:https://www.google.fr/maps?client=safari&rls=en&q=cinéma+le+rio&oe=UTF-8&gfe_rd=cr&dcr=0&um=1&ie=UTF-8&sa=X&ved=0ahUKEwiYx7SKl8HYAhWBkRQKHWpUCpEQ_AUICigB
END:VEVENT
END:VCALENDAR
