BEGIN:VCALENDAR
VERSION:2.0
PRODID:-//Focales
CALSCALE:GREGORIAN
METHOD:PUBLISH
X-WR-CALNAME:Focales
X-ORIGINAL-URL:https://focales.org/journees-scolaires-rencontre-cinema-nature/
X-WR-CALDESC:JOURNÉES SCOLAIRES RENCONTRE CINÉMA-NATURE
BEGIN:VEVENT
DTSTART:20180112T000000
DTEND:20180215T000000
SUMMARY:JOURNÉES SCOLAIRES RENCONTRE CINÉMA-NATURE
DESCRIPTION:
LOCATION:https://www.google.fr/maps?client=safari&rls=en&q=dompierre+sur+besbre&oe=UTF-8&gfe_rd=cr&dcr=0&um=1&ie=UTF-8&sa=X&ved=0ahUKEwj99vSah9LYAhXJvhQKHWLiAxUQ_AUICigB
END:VEVENT
END:VCALENDAR
