BEGIN:VCALENDAR
VERSION:2.0
PRODID:-//Focales
CALSCALE:GREGORIAN
METHOD:PUBLISH
X-WR-CALNAME:Focales
X-ORIGINAL-URL:https://focales.org/petite-anatomie-des-images/
X-WR-CALDESC:PETITE ANATOMIE DES IMAGES
BEGIN:VEVENT
DTSTART:20180125T200000
DTEND:20180125T220000
SUMMARY:PETITE ANATOMIE DES IMAGES
DESCRIPTION:
LOCATION:https://www.google.fr/maps?client=safari&rls=en&oe=UTF-8&gfe_rd=cr&dcr=0&q=cinéma+le+gergovie+cournon&um=1&ie=UTF-8&sa=X&ved=0ahUKEwitzOH459LYAhVTsBQKHflVAcsQ_AUICigB
END:VEVENT
END:VCALENDAR
