BEGIN:VCALENDAR
VERSION:2.0
PRODID:-//Focales
CALSCALE:GREGORIAN
METHOD:PUBLISH
X-WR-CALNAME:Focales
X-ORIGINAL-URL:https://focales.org/les-croods-cournon-dauvergne/
X-WR-CALDESC:LES CROODS
BEGIN:VEVENT
DTSTART:20150729T220000
DTEND:20150729T233200
SUMMARY:LES CROODS
DESCRIPTION:
LOCATION:45.7305583 3.1898925
END:VEVENT
END:VCALENDAR
