BEGIN:VCALENDAR
VERSION:2.0
PRODID:-//Focales
CALSCALE:GREGORIAN
METHOD:PUBLISH
X-WR-CALNAME:Focales
X-ORIGINAL-URL:https://focales.org/seminaire-construire-lesprit-critique/
X-WR-CALDESC:SÉMINAIRE CONSTRUIRE L&rsquo;ESPRIT CRITIQUE
BEGIN:VEVENT
DTSTART:20180313T090000
DTEND:20180313T170000
SUMMARY:SÉMINAIRE CONSTRUIRE L&rsquo;ESPRIT CRITIQUE
DESCRIPTION:
LOCATION:Canopé, Clermont-Ferrand
END:VEVENT
END:VCALENDAR
