BEGIN:VCALENDAR
VERSION:2.0
PRODID:-//Focales
CALSCALE:GREGORIAN
METHOD:PUBLISH
X-WR-CALNAME:Focales
X-ORIGINAL-URL:https://focales.org/ateliers-artistiques-en-mediatheques/
X-WR-CALDESC:ATELIERS VALISE ANIMÉE
BEGIN:VEVENT
DTSTART:20180214T150000
DTEND:20180214T170000
SUMMARY:ATELIERS VALISE ANIMÉE
DESCRIPTION:
LOCATION:https://www.google.fr/maps/place/Médiathèque+de+Jaude/@45.7746282,3.0818765,17z/data=!3m1!4b1!4m5!3m4!1s0x47f71be82930f319:0xdf3924a5a547356a!8m2!3d45.7746282!4d3.0840652?dcr=0
END:VEVENT
END:VCALENDAR
