BEGIN:VCALENDAR
VERSION:2.0
PRODID:-//Focales
CALSCALE:GREGORIAN
METHOD:PUBLISH
X-WR-CALNAME:Focales
X-ORIGINAL-URL:https://focales.org/jusqua-la-garde-en-presence-de-lequipe-du-film/
X-WR-CALDESC:JUSQU&rsquo;À LA GARDE EN PRÉSENCE DE L&rsquo;ÉQUIPE DU FILM
BEGIN:VEVENT
DTSTART:20180203T210000
DTEND:20180203T234500
SUMMARY:JUSQU&rsquo;À LA GARDE EN PRÉSENCE DE L&rsquo;ÉQUIPE DU FILM
DESCRIPTION:
LOCATION:https://www.google.fr/maps/place/Maison+de+la+Culture/@45.7705942,3.0820832,17z/data=!3m1!4b1!4m5!3m4!1s0x47f71bc9630e19b7:0x6f80722cdcb1fb2a!8m2!3d45.7705942!4d3.0842719?dcr=0
END:VEVENT
END:VCALENDAR
