BEGIN:VCALENDAR
VERSION:2.0
PRODID:-//Focales
CALSCALE:GREGORIAN
METHOD:PUBLISH
X-WR-CALNAME:Focales
X-ORIGINAL-URL:https://focales.org/master-class-pendant-le-festival/
X-WR-CALDESC:MASTER CLASS PENDANT LE FESTIVAL
BEGIN:VEVENT
DTSTART:20180205T150000
DTEND:20180208T150000
SUMMARY:MASTER CLASS PENDANT LE FESTIVAL
DESCRIPTION:
LOCATION:
END:VEVENT
END:VCALENDAR
