BEGIN:VCALENDAR
VERSION:2.0
PRODID:-//Focales
CALSCALE:GREGORIAN
METHOD:PUBLISH
X-WR-CALNAME:Focales
X-ORIGINAL-URL:https://focales.org/tokyo-blue-lendroit-au-bord-de-la-riviere-en-presence-de-sylvain-garassus/
X-WR-CALDESC:TOKYO BLUE, L&rsquo;ENDROIT AU BORD DE LA RIVIERE EN PRÉSENCE DE SYLVAIN GARASSUS
BEGIN:VEVENT
DTSTART:20180213T203000
DTEND:20180213T230000
SUMMARY:TOKYO BLUE, L&rsquo;ENDROIT AU BORD DE LA RIVIERE EN PRÉSENCE DE SYLVAIN GARASSUS
DESCRIPTION:
LOCATION:https://www.google.fr/maps/place/U.F.R.+Lettres,+Cultures+et+Sciences+Humaines/@45.7718744,3.0892665,17z/data=!3m1!4b1!4m5!3m4!1s0x47f71bec2ac03601:0xf4989c0bdeb30cb6!8m2!3d45.7718744!4d3.0914552?dcr=0
END:VEVENT
END:VCALENDAR
